BEGIN:VCALENDAR
VERSION:2.0
PRODID:-//Scottish Beekeepers Association - ECPv6.15.20//NONSGML v1.0//EN
CALSCALE:GREGORIAN
METHOD:PUBLISH
X-ORIGINAL-URL:https://scottishbeekeepers.org.uk
X-WR-CALDESC:Events for Scottish Beekeepers Association
REFRESH-INTERVAL;VALUE=DURATION:PT1H
X-Robots-Tag:noindex
X-PUBLISHED-TTL:PT1H
BEGIN:VTIMEZONE
TZID:Europe/London
BEGIN:DAYLIGHT
TZOFFSETFROM:+0000
TZOFFSETTO:+0100
TZNAME:BST
DTSTART:20240331T010000
END:DAYLIGHT
BEGIN:STANDARD
TZOFFSETFROM:+0100
TZOFFSETTO:+0000
TZNAME:GMT
DTSTART:20241027T010000
END:STANDARD
BEGIN:DAYLIGHT
TZOFFSETFROM:+0000
TZOFFSETTO:+0100
TZNAME:BST
DTSTART:20250330T010000
END:DAYLIGHT
BEGIN:STANDARD
TZOFFSETFROM:+0100
TZOFFSETTO:+0000
TZNAME:GMT
DTSTART:20251026T010000
END:STANDARD
BEGIN:DAYLIGHT
TZOFFSETFROM:+0000
TZOFFSETTO:+0100
TZNAME:BST
DTSTART:20260329T010000
END:DAYLIGHT
BEGIN:STANDARD
TZOFFSETFROM:+0100
TZOFFSETTO:+0000
TZNAME:GMT
DTSTART:20261025T010000
END:STANDARD
END:VTIMEZONE
BEGIN:VEVENT
DTSTART;TZID=Europe/London:20250619T080000
DTEND;TZID=Europe/London:20250622T170000
DTSTAMP:20260419T213135
CREATED:20250307T133751Z
LAST-MODIFIED:20250425T113106Z
UID:1374-1750320000-1750611600@scottishbeekeepers.org.uk
SUMMARY:Royal Highland Show
DESCRIPTION:Honey Tent at the Royal Highland Show \nJoin us on the 19th to 22nd of June in the Honey Tent at this year’s Royal Highland Show. \nWhether you’re a curious visitor or an experienced beekeeper\, there’s something for everyone in this vibrant and educational space dedicated to the wonders of bees and beekeeping. \nYou can find out more about what happens in the Honey tent by clicking here \nTo find our more about the Royal Highland Show please visit \nhttps://www.royalhighlandshow.org/ \nAnd we’re looking for volunteer stewards to help in the tent and engage with the many thousands of visitors who pop in each day. If you’ve got some knowledge and experience of honey bees and beekeeping\, or have just started a beginner’s course then please do consider it. \nTo volunteer please complete our online registration form before the 18th MAY 2025\, via the link below \nhttps://www.surveymonkey.com/r/RHS25Volunteer \nThe Honey tent wouldn’t exist without all the wonderful competition entries\, so if you’d like to have a go at entering one of the many competitions you can download the competition schedule via the link below\, but hurry as entries close on the 19th MAY 2025. \nhttps://www.royalhighlandshow.org/trade-competitions/competitions/other-comps/ \nWe look forward to seeing you there!
URL:https://scottishbeekeepers.org.uk/event/royal-highland-show/
LOCATION:Ingliston\, Edinburgh\, Royal Highland Show Ground\, Edinbugh\, EH28 8NB\, United Kingdom
ATTACH;FMTTYPE=image/jpeg:https://scottishbeekeepers.org.uk/wp-content/uploads/2024/11/Main-Image-for-Webpage-scaled-e1730637668679.jpg
END:VEVENT
END:VCALENDAR