BEGIN:VCALENDAR
VERSION:2.0
PRODID:-//Scottish Beekeepers Association - ECPv6.15.20//NONSGML v1.0//EN
CALSCALE:GREGORIAN
METHOD:PUBLISH
X-WR-CALNAME:Scottish Beekeepers Association
X-ORIGINAL-URL:https://scottishbeekeepers.org.uk
X-WR-CALDESC:Events for Scottish Beekeepers Association
REFRESH-INTERVAL;VALUE=DURATION:PT1H
X-Robots-Tag:noindex
X-PUBLISHED-TTL:PT1H
BEGIN:VTIMEZONE
TZID:UTC
BEGIN:STANDARD
TZOFFSETFROM:+0000
TZOFFSETTO:+0000
TZNAME:UTC
DTSTART:20230101T000000
END:STANDARD
END:VTIMEZONE
BEGIN:VEVENT
DTSTART;TZID=UTC:20240310T090000
DTEND;TZID=UTC:20240310T170000
DTSTAMP:20260424T205433
CREATED:20240305T165435Z
LAST-MODIFIED:20240305T165435Z
UID:863-1710061200-1710090000@scottishbeekeepers.org.uk
SUMMARY:Train the Trainers Course (Kinross-shire 10th March)
DESCRIPTION:Two one day courses will be held this year. One at Portmoak Hall\, Main St\, Scotlandwell\, KY13 9HY on Sunday 10th of March and the other at Nairn Community Centre\, King St.\, Nairn\, IV12 4BQ on Tuesday 12th of March\, both from 9am to 5pm. \nThe fee is £70 and will include tea/coffee and a light lunch (soup and sandwiches). Your local association may want to help with the fee\, as the skills obtained will help you to teach and mentor beginners at a local level. \nThese courses qualify for the teaching experience part of the SBA Beekeeping Trainer Certificate. The courses are aimed at beekeepers with several years’ experience\, who have enough sound beekeeping knowledge and experience to pass on\, and who are\, or plan to be\, actively involved in teaching and mentoring new beekeepers. \nApplicants should have gained their SBA Basic Beekeeping certificate (BB). \nThe aims of these courses are: \n• To help beekeeping tutors understand how adults learn \n• To help them deliver information more effectively \n• To enable them to pass on their beekeeping expertise to others so that their students become knowledgeable and competent beekeepers. \nThe course tutor will be Margaret Murden\, NDB. \nThe courses will be limited to 14 attendees. \nPlease check for place availability with Alan Riach at alan.riach@scottishbeekeepers.org.uk or by texting or phoning on 07702 436 612. \nThe application deadline is the 24th of February 2024. \n\n 
URL:https://scottishbeekeepers.org.uk/event/train-the-trainers-course-kinross-shire-10th-march/
LOCATION:Portmoak Hall\, Main Street\, Scotlandwell\, Kinross-shire\, KY13 9HY\, United Kingdom
CATEGORIES:COURSES
ATTACH;FMTTYPE=image/jpeg:https://scottishbeekeepers.org.uk/wp-content/uploads/2024/03/Train-the-Trainer.jpg
END:VEVENT
BEGIN:VEVENT
DTSTART;TZID=UTC:20240310T090000
DTEND;TZID=UTC:20240310T170000
DTSTAMP:20260424T205433
CREATED:20240305T165909Z
LAST-MODIFIED:20240305T170414Z
UID:866-1710061200-1710090000@scottishbeekeepers.org.uk
SUMMARY:Train the Trainers Course (Nairn 12th March)
DESCRIPTION:Two one day courses will be held this year. One at Portmoak Hall\, Main St\, Scotlandwell\, KY13 9HY on Sunday 10th of March and the other at Nairn Community Centre\, King St.\, Nairn\, IV12 4BQ on Tuesday 12th of March\, both from 9am to 5pm. \nThe fee is £70 and will include tea/coffee and a light lunch (soup and sandwiches). Your local association may want to help with the fee\, as the skills obtained will help you to teach and mentor beginners at a local level. \nThese courses qualify for the teaching experience part of the SBA Beekeeping Trainer Certificate. The courses are aimed at beekeepers with several years’ experience\, who have enough sound beekeeping knowledge and experience to pass on\, and who are\, or plan to be\, actively involved in teaching and mentoring new beekeepers. \nApplicants should have gained their SBA Basic Beekeeping certificate (BB). \nThe aims of these courses are: \n• To help beekeeping tutors understand how adults learn \n• To help them deliver information more effectively \n• To enable them to pass on their beekeeping expertise to others so that their students become knowledgeable and competent beekeepers. \nThe course tutor will be Margaret Murden\, NDB. \nThe courses will be limited to 14 attendees. \nPlease check for place availability with Alan Riach at alan.riach@scottishbeekeepers.org.uk or by texting or phoning on 07702 436 612. \nThe application deadline is the 24th of February 2024. \n\n 
URL:https://scottishbeekeepers.org.uk/event/train-the-trainers-course-nairn-12th-march/
LOCATION:Portmoak Hall\, Main Street\, Scotlandwell\, Kinross-shire\, KY13 9HY\, United Kingdom
CATEGORIES:COURSES
ATTACH;FMTTYPE=image/jpeg:https://scottishbeekeepers.org.uk/wp-content/uploads/2024/03/Train-the-Trainer.jpg
END:VEVENT
END:VCALENDAR