BEGIN:VCALENDAR
VERSION:2.0
PRODID:-//Scottish Beekeepers Association - ECPv6.15.20//NONSGML v1.0//EN
CALSCALE:GREGORIAN
METHOD:PUBLISH
X-WR-CALNAME:Scottish Beekeepers Association
X-ORIGINAL-URL:https://scottishbeekeepers.org.uk
X-WR-CALDESC:Events for Scottish Beekeepers Association
REFRESH-INTERVAL;VALUE=DURATION:PT1H
X-Robots-Tag:noindex
X-PUBLISHED-TTL:PT1H
BEGIN:VTIMEZONE
TZID:Europe/London
BEGIN:DAYLIGHT
TZOFFSETFROM:+0000
TZOFFSETTO:+0100
TZNAME:BST
DTSTART:20250330T010000
END:DAYLIGHT
BEGIN:STANDARD
TZOFFSETFROM:+0100
TZOFFSETTO:+0000
TZNAME:GMT
DTSTART:20251026T010000
END:STANDARD
BEGIN:DAYLIGHT
TZOFFSETFROM:+0000
TZOFFSETTO:+0100
TZNAME:BST
DTSTART:20260329T010000
END:DAYLIGHT
BEGIN:STANDARD
TZOFFSETFROM:+0100
TZOFFSETTO:+0000
TZNAME:GMT
DTSTART:20261025T010000
END:STANDARD
BEGIN:DAYLIGHT
TZOFFSETFROM:+0000
TZOFFSETTO:+0100
TZNAME:BST
DTSTART:20270328T010000
END:DAYLIGHT
BEGIN:STANDARD
TZOFFSETFROM:+0100
TZOFFSETTO:+0000
TZNAME:GMT
DTSTART:20271031T010000
END:STANDARD
END:VTIMEZONE
BEGIN:VEVENT
DTSTART;TZID=Europe/London:20260502T094500
DTEND;TZID=Europe/London:20260502T160000
DTSTAMP:20260422T023753
CREATED:20250217T150320Z
LAST-MODIFIED:20260304T132529Z
UID:1347-1777715100-1777737600@scottishbeekeepers.org.uk
SUMMARY:Wax Workshop
DESCRIPTION:WAX WORKSHOP \nSATURDAY 2nd MAY \nPEEBLES \nJoin us for a fun and informative one-day SBA WAX Workshop\, to be held on Saturday 2nd May 2026 at Cardrona Village Hall\, Cardrona\, Peebles\, EH45 9LD. The workshop will run from 9.45 am to 4 pm. \nDelegates will get hands-on experience in the production of moulded candles\, dipped candles\, wired foundation\, polish\, moisturising cream\, flowers\, rolled candles\, and wraps. \nThis would make a lovely gift or entertaining day out with family and friends. \nTea\, coffee and biscuits will be provided\, but please bring a packed lunch and your own mug. \nCost \nSBA Members: £65 \nNon-members: £75 \nThe last date for applications is the 25th of April 2026. \nPlaces are limited\, so ensure you book early.
URL:https://scottishbeekeepers.org.uk/event/wax-workshop/
LOCATION:Cardrona Village Hall\, Cardrona Way\, Peebles\, EH45 9LJ
CATEGORIES:WORKSHOP
ATTACH;FMTTYPE=image/jpeg:https://scottishbeekeepers.org.uk/wp-content/uploads/2025/02/Wax-Workshop-1.jpg
END:VEVENT
END:VCALENDAR