BEGIN:VCALENDAR
VERSION:2.0
PRODID:-//Scottish Beekeepers Association - ECPv6.15.20//NONSGML v1.0//EN
CALSCALE:GREGORIAN
METHOD:PUBLISH
X-WR-CALNAME:Scottish Beekeepers Association
X-ORIGINAL-URL:https://scottishbeekeepers.org.uk
X-WR-CALDESC:Events for Scottish Beekeepers Association
REFRESH-INTERVAL;VALUE=DURATION:PT1H
X-Robots-Tag:noindex
X-PUBLISHED-TTL:PT1H
BEGIN:VTIMEZONE
TZID:Europe/London
BEGIN:DAYLIGHT
TZOFFSETFROM:+0000
TZOFFSETTO:+0100
TZNAME:BST
DTSTART:20230326T010000
END:DAYLIGHT
BEGIN:STANDARD
TZOFFSETFROM:+0100
TZOFFSETTO:+0000
TZNAME:GMT
DTSTART:20231029T010000
END:STANDARD
BEGIN:DAYLIGHT
TZOFFSETFROM:+0000
TZOFFSETTO:+0100
TZNAME:BST
DTSTART:20240331T010000
END:DAYLIGHT
BEGIN:STANDARD
TZOFFSETFROM:+0100
TZOFFSETTO:+0000
TZNAME:GMT
DTSTART:20241027T010000
END:STANDARD
BEGIN:DAYLIGHT
TZOFFSETFROM:+0000
TZOFFSETTO:+0100
TZNAME:BST
DTSTART:20250330T010000
END:DAYLIGHT
BEGIN:STANDARD
TZOFFSETFROM:+0100
TZOFFSETTO:+0000
TZNAME:GMT
DTSTART:20251026T010000
END:STANDARD
END:VTIMEZONE
BEGIN:VEVENT
DTSTART;TZID=Europe/London:20240831T100000
DTEND;TZID=Europe/London:20240831T160000
DTSTAMP:20260424T204645
CREATED:20240627T135640Z
LAST-MODIFIED:20240717T182727Z
UID:1156-1725098400-1725120000@scottishbeekeepers.org.uk
SUMMARY:Honey Workshop
DESCRIPTION:SBA HONEY WORKSHOP \nSaturday 31st August \nIts Production\, Harvesting\, Extraction & Filtering\, Blending/Seeding and Preparation for Market \nJoin us in the North East for a one-day SBA Workshop to be held on Saturday 31st of August 2024 at Spey Bay Community Hall\, Spey Bay\, Moray\, IV32 7PJ.  The workshop will run from 10 am to 4 pm. \nDelegates will get hands-on experience of extracting\, filtering\, and processing honey. The course will also include presentations on optimising colonies for production of honey\, extraction methods\, as well as advice on preparing honey for the market. \nCost  \nSBA Members: £50                                   Non-members: £60 \nThe last date for applications is 24th  of August 2024. Places are limited\, so ensure you book early. \nApplication Form \n 
URL:https://scottishbeekeepers.org.uk/event/honey-workshop/
LOCATION:Spey Bay Community Hall\, Moray\, Spey Bay\, Moray\, IV32 7PJ\, United Kingdom
CATEGORIES:WORKSHOP
ATTACH;FMTTYPE=image/jpeg:https://scottishbeekeepers.org.uk/wp-content/uploads/2024/04/honeycomb-cut-comb-Image-by-PollyDot-from-Pixabay.jpg
END:VEVENT
END:VCALENDAR