BEGIN:VCALENDAR
VERSION:2.0
PRODID:-//Scottish Beekeepers Association - ECPv6.15.20//NONSGML v1.0//EN
CALSCALE:GREGORIAN
METHOD:PUBLISH
X-WR-CALNAME:Scottish Beekeepers Association
X-ORIGINAL-URL:https://scottishbeekeepers.org.uk
X-WR-CALDESC:Events for Scottish Beekeepers Association
REFRESH-INTERVAL;VALUE=DURATION:PT1H
X-Robots-Tag:noindex
X-PUBLISHED-TTL:PT1H
BEGIN:VTIMEZONE
TZID:Europe/London
BEGIN:DAYLIGHT
TZOFFSETFROM:+0000
TZOFFSETTO:+0100
TZNAME:BST
DTSTART:20240331T010000
END:DAYLIGHT
BEGIN:STANDARD
TZOFFSETFROM:+0100
TZOFFSETTO:+0000
TZNAME:GMT
DTSTART:20241027T010000
END:STANDARD
BEGIN:DAYLIGHT
TZOFFSETFROM:+0000
TZOFFSETTO:+0100
TZNAME:BST
DTSTART:20250330T010000
END:DAYLIGHT
BEGIN:STANDARD
TZOFFSETFROM:+0100
TZOFFSETTO:+0000
TZNAME:GMT
DTSTART:20251026T010000
END:STANDARD
BEGIN:DAYLIGHT
TZOFFSETFROM:+0000
TZOFFSETTO:+0100
TZNAME:BST
DTSTART:20260329T010000
END:DAYLIGHT
BEGIN:STANDARD
TZOFFSETFROM:+0100
TZOFFSETTO:+0000
TZNAME:GMT
DTSTART:20261025T010000
END:STANDARD
END:VTIMEZONE
BEGIN:VEVENT
DTSTART;TZID=Europe/London:20251120T193000
DTEND;TZID=Europe/London:20251120T210000
DTSTAMP:20260421T164449
CREATED:20251024T140428Z
LAST-MODIFIED:20251024T140428Z
UID:1488-1763667000-1763672400@scottishbeekeepers.org.uk
SUMMARY:November Webinar The Arctic Beekeeper with Einar Johansen
DESCRIPTION:Join us for the first online webinar of our winter series\, when we are delighted to welcome Einar Johansen\, the Arctic Beekeeper. \nEinar is a sideline beekeeper based in Lofoten\, Northern Norway\, at 68° North. He manages 30 colonies in one of the world’s northernmost apiaries\, where his bees must survive over seven months of winter confinement. The region is free of Varroa and other bee diseases. Aside from very limited queen imports for new genetics\, he is self-sufficient. His Arctic beekeeping is shaped by extreme weather and long winters\, requiring careful adaptation and timing to succeed in a very narrow biological window. His honey is primarily derived from willow\, dandelion\, white clover\, lilac\, fireweed\, and heather. \nOur webinars are free to SBA members and £2 for Non-Members. \nTo book your place\, please click here
URL:https://scottishbeekeepers.org.uk/event/november-webinar-the-arctic-beekeeper-with-einar-johansen/
LOCATION:Online
CATEGORIES:WEBINAR
ATTACH;FMTTYPE=image/jpeg:https://scottishbeekeepers.org.uk/wp-content/uploads/2025/10/Einar-Johansen.jpg
END:VEVENT
END:VCALENDAR